BEGIN:VCALENDAR
VERSION:2.0
PRODID:-//Opogo Community - ECPv6.0.6.2//NONSGML v1.0//EN
CALSCALE:GREGORIAN
METHOD:PUBLISH
X-ORIGINAL-URL:https://community.opogo.com
X-WR-CALDESC:Events for Opogo Community
REFRESH-INTERVAL;VALUE=DURATION:PT1H
X-Robots-Tag:noindex
X-PUBLISHED-TTL:PT1H
BEGIN:VTIMEZONE
TZID:Europe/London
BEGIN:DAYLIGHT
TZOFFSETFROM:+0000
TZOFFSETTO:+0100
TZNAME:BST
DTSTART:20200329T010000
END:DAYLIGHT
BEGIN:STANDARD
TZOFFSETFROM:+0100
TZOFFSETTO:+0000
TZNAME:GMT
DTSTART:20201025T010000
END:STANDARD
END:VTIMEZONE
BEGIN:VEVENT
DTSTART;TZID=Europe/London:20200901T133000
DTEND;TZID=Europe/London:20200904T170000
DTSTAMP:20260422T162847
CREATED:20200729T163534Z
LAST-MODIFIED:20200810T180056Z
UID:5396-1598967000-1599238800@community.opogo.com
SUMMARY:Diversity in Schools Masterclass - For Leaders
DESCRIPTION:Want to develop your knowledge\, understanding and confidence in how to be an inclusive leader who celebrates diversity? \nJoin Bennie Kara\, Hannah Jepson and Hannah Wilson in this Diversity in Education Masterclass to prepare you for the new academic year. \nWe are pooling our expertise and experience to deliver a 3 part masterclass – 3 sessions\, 3 perspectives\, 3 things for you to commit to in your pledge to embed diversity into your teaching. \nThis masterclass is for leaders: \n\nIn Part 1: Vision and Values: Embedding diversity and inclusion in your school’s culture\, Hannah W will challenge you to think about your environment\, policies and practices.\nIn Part 2: Inclusive Recruitment: How to challenge your bias and make better decisions\, Hannah J will challenge you to think about your attraction\, recruitment and retention.\nIn Part 3: Colouring in Your Curriculum: How to diversify your units of work and your long-term plan\, Bennie will challenge you to think about how you can decolonise your pedagogy.\n\nEach part will be 45 minutes long with a balance of input\, reflection and discussion. This is a paid for event. \nAt the end of the masterclass you will be able to ask the 3 of us any questions about your vision\, your provision and your next steps. \nTo register\, click here.  \nBiographies: \nBennie Kara is a Deputy Headteacher in Derby\, specialising in curriculum\, teaching and learning. She is a speaker\, trainer and writer on topics such as diversity\, language\, literature\, and the curriculum. \nHannah Jepson’s passion is in supporting individuals\, and organisations to embrace diversity and inclusion\, with a key focus on intersectionality. She is a qualified business psychologist and co-founder of LGBTed. She delivers impactful D&I interventions for organisations; develops competency frameworks and recruitment & assessment solutions across a range of sectors. She consults with schools nationally on the LGBTQ+ inclusion agenda\, providing support on the development of pan diversity strategies. \nHannah Wilson is an educational leader who specialises in leadership development and training. She is the Co-Founder of #WomenEd and the founder of #DiverseEd. Hannah is passionate about Diversity\, Inclusion and Equality; Professional Learning; Mentoring and Coaching. Her former roles in education include: Head of Secondary Teacher Training; Founding Executive Headteacher of 2 schools; Strategic Lead for a Teaching School Alliance; Professional Learning Lead for a large MAT and DfE Diversity grant holder.
URL:https://community.opogo.com/event/diversity-in-schools-masterclass-for-leaders/
CATEGORIES:Leadership
ATTACH;FMTTYPE=image/jpeg:https://community.opogo.com/wp-content/uploads/2020/07/DM_LEADERS_1239x447.jpg
ORGANIZER;CN="Hannah%20Wilson":MAILTO:hello@hannah-wilson.co.uk
END:VEVENT
END:VCALENDAR