BEGIN:VCALENDAR
VERSION:2.0
PRODID:-//Opogo Community - ECPv6.0.6.2//NONSGML v1.0//EN
CALSCALE:GREGORIAN
METHOD:PUBLISH
X-ORIGINAL-URL:https://community.opogo.com
X-WR-CALDESC:Events for Opogo Community
REFRESH-INTERVAL;VALUE=DURATION:PT1H
X-Robots-Tag:noindex
X-PUBLISHED-TTL:PT1H
BEGIN:VTIMEZONE
TZID:Europe/London
BEGIN:DAYLIGHT
TZOFFSETFROM:+0000
TZOFFSETTO:+0100
TZNAME:BST
DTSTART:20230326T010000
END:DAYLIGHT
BEGIN:STANDARD
TZOFFSETFROM:+0100
TZOFFSETTO:+0000
TZNAME:GMT
DTSTART:20231029T010000
END:STANDARD
BEGIN:DAYLIGHT
TZOFFSETFROM:+0000
TZOFFSETTO:+0100
TZNAME:BST
DTSTART:20240331T010000
END:DAYLIGHT
BEGIN:STANDARD
TZOFFSETFROM:+0100
TZOFFSETTO:+0000
TZNAME:GMT
DTSTART:20241027T010000
END:STANDARD
END:VTIMEZONE
BEGIN:VEVENT
DTSTART;TZID=Europe/London:20230109T160000
DTEND;TZID=Europe/London:20230109T170000
DTSTAMP:20260420T091429
CREATED:20221219T174611Z
LAST-MODIFIED:20221219T174704Z
UID:10738-1673280000-1673283600@community.opogo.com
SUMMARY:Maximising Your School Budget
DESCRIPTION:Join us on Monday 9 January at 4pm – 5pm for the LEARN LIVE webinar ‘Maximising your school budget’\nIn this first of a series of webinars to support school business managers\, Annette Southworth offers her experience and skills to give insights into successful budgeting. Annette will talk through the issues and opportunities that are available for schools. Whether you are school leader looking to gain more knowledge of successful budget use or you are a business manager\, this webinar is for you. \n  \n<\n\n \n\n\nRegister now
URL:https://community.opogo.com/event/maximising-your-school-budget/
CATEGORIES:Finance
ATTACH;FMTTYPE=image/jpeg:https://community.opogo.com/wp-content/uploads/2022/12/Maximising-your-school-budget-Webinar.jpg
END:VEVENT
BEGIN:VEVENT
DTSTART;TZID=Europe/London:20230221T140000
DTEND;TZID=Europe/London:20230221T150000
DTSTAMP:20260420T091429
CREATED:20230123T083035Z
LAST-MODIFIED:20230202T100809Z
UID:11225-1676988000-1676991600@community.opogo.com
SUMMARY:Generating Income for Your School
DESCRIPTION:Join us on Tuesday 21 February at 2pm – 3pm for the LEARN LIVE webinar ‘Generating Income for Your School’\nIn this first of a series of webinars to support school business managers\, Annette Southworth offers her experience and skills to give insights into successful budgeting. Annette will talk through the issues and opportunities that are available for schools. Whether you are school leader looking to gain more knowledge of successful budget use or you are a business manager\, this webinar is for you. \n  \nRegister now
URL:https://community.opogo.com/event/generating-income-for-your-school/
CATEGORIES:Finance
ATTACH;FMTTYPE=image/jpeg:https://community.opogo.com/wp-content/uploads/2023/01/Generating-Income-for-Your-School.jpg
END:VEVENT
BEGIN:VEVENT
DTSTART;TZID=Europe/London:20240710T160000
DTEND;TZID=Europe/London:20240710T170000
DTSTAMP:20260420T091429
CREATED:20240516T083503Z
LAST-MODIFIED:20240516T083503Z
UID:13099-1720627200-1720630800@community.opogo.com
SUMMARY:Progressive Masculinity
DESCRIPTION:Join us on Wednesday 10 July at 4.00pm – 5.00pm for the LEARN LIVE webinar ‘Progressive Masculinity’\nWhat are the aims of this webinar? \nIn our session we will hear about the work and vision of Progressive Masculinity. As their website states\, “At Progressive Masculinity we challenge these regressive models of masculinity without presenting an alternative which would be dismissed by young men as ‘weak’. This is achieved by creating safe\, non-judgemental spaces\, listening to and valuing the voice of boys in order to construct models of masculinity which are consistent with their values\, with the kind of men\, friends\, partners and fathers they wish to be in the future. We support them to become the kind of men this world badly needs”. \nWhat will you take from this session? \nYou will hear about strategies to work with the boys in your setting to improve their knowledge and confidence in their masculinity. Mike Nicholson\, Director\, will give background to the organisation. He will then explain the essence of their work and how you can begin to build positivity around boys masculinity. \nWho is the presenter? \nMike Nicholson has over seventeen years experience in education as an English teacher and middle leader. Having worked in schools from every Ofsted category he has a wide range of experience across the educational spectrum and early in his career began to develop a reputation for his ability to have an impact on boys and young men deemed ‘difficult’ and ‘challenging’. Recognition of his work with this group led to a nomination for a Pearson National Teaching Award. In 2009 Mike took a sabbatical year to manage an education program called The English Language Improvement Centre in a rural area of Ethiopia\, Africa. Whilst the conditions during this time were very challenging it provided Mike with a ‘once in a lifetime’ experience and a chance to change lives by developing the literacy skills of many who had previously been unable or denied the chance to learn. \nOver the years Mike became increasingly interested in how our male pupils’ understanding of masculinity played such a pivotal role in their attitudes and behaviours. Researching\, developing and piloting an early version of the Progressive Masculinity Program allowed him to see how so many of our young men put on a performance and a mask of what they think it means to be ‘a man’ gleaned from films\, games\, social media etc. The refined version of the Progressive Masculinity Program is Mike’s effort to give our young men the freedom and confidence to remove this mask and\, through open dialogue and practical activities\, reconstruct a healthier and more open-minded understanding of what it can mean to be ‘a man’. \n  \n<\n\n \n\n\nRegister now
URL:https://community.opogo.com/event/progressive-masculinity/
CATEGORIES:Mental Health,Wellbeing
ATTACH;FMTTYPE=image/jpeg:https://community.opogo.com/wp-content/uploads/2024/05/Progressive-Masculinity-2.jpg
END:VEVENT
BEGIN:VEVENT
DTSTART;TZID=Europe/London:20241212T160000
DTEND;TZID=Europe/London:20241212T170000
DTSTAMP:20260420T091429
CREATED:20240920T150022Z
LAST-MODIFIED:20240920T150022Z
UID:14066-1734019200-1734022800@community.opogo.com
SUMMARY:A Guide to Learning Support & Teaching Assistant Wellbeing
DESCRIPTION:Join us for an insightful webinar on December 12th from 4 – 5pm presented by Lynn How\, a renowned expert in the field of Special Educational Needs Coordination (SENCO). With a vast network of around 10\,000 SENCOs through her popular ‘Sweary SENCO Group’ on Facebook\, Lynn brings a wealth of experience and knowledge to this session. \nLynn is a prolific content creator\, having published numerous blogs\, produced a variety of YouTube guides\, and authored several books. Her dedication to supporting learning assistants and teaching staff is unparalleled. \nIn this webinar\, Lynn will delve into the crucial aspects of wellbeing for learning support and teaching assistants. Attendees will gain valuable insights into: \nEffective strategies for maintaining mental and emotional health\nPractical tips for managing workload and stress\nTechniques for fostering a supportive and positive work environment\nResources and tools to enhance personal and professional wellbeing\nThis session is designed to empower learning support and teaching assistants with the knowledge and skills needed to thrive in their roles. Don’t miss this opportunity to learn from one of the leading voices in the SENCO community. \nRegister now to secure your spot and take the first step towards enhancing your wellbeing and professional growth. \n  \n<\n\n \n\n\nRegister now
URL:https://community.opogo.com/event/a-guide-to-learning-support-teaching-assistant-wellbeing/
CATEGORIES:SEND,Teacher Training,Wellbeing
ATTACH;FMTTYPE=image/jpeg:https://community.opogo.com/wp-content/uploads/2024/09/Developing-the-Writing-Skills-of-Children-with-Autism-2.jpg
END:VEVENT
END:VCALENDAR