BEGIN:VCALENDAR
VERSION:2.0
PRODID:-//Opogo Community - ECPv6.0.6.2//NONSGML v1.0//EN
CALSCALE:GREGORIAN
METHOD:PUBLISH
X-WR-CALNAME:Opogo Community
X-ORIGINAL-URL:https://community.opogo.com
X-WR-CALDESC:Events for Opogo Community
REFRESH-INTERVAL;VALUE=DURATION:PT1H
X-Robots-Tag:noindex
X-PUBLISHED-TTL:PT1H
BEGIN:VTIMEZONE
TZID:Europe/London
BEGIN:DAYLIGHT
TZOFFSETFROM:+0000
TZOFFSETTO:+0100
TZNAME:BST
DTSTART:20200329T010000
END:DAYLIGHT
BEGIN:STANDARD
TZOFFSETFROM:+0100
TZOFFSETTO:+0000
TZNAME:GMT
DTSTART:20201025T010000
END:STANDARD
END:VTIMEZONE
BEGIN:VEVENT
DTSTART;TZID=Europe/London:20200709T180000
DTEND;TZID=Europe/London:20200709T190000
DTSTAMP:20260419T180205
CREATED:20200622T144550Z
LAST-MODIFIED:20200703T124746Z
UID:4053-1594317600-1594321200@community.opogo.com
SUMMARY:Street Dancing With Andrea Rose Makes Fitness Fun
DESCRIPTION:Opogo has partnered with Andrea Rose Dance (ARD) to bring you dance classes that combine dance with fitness. \nOur second class is 45 minutes long and will combine fitness exercises with a street dance routine improving musicality\, coordination and having fun. \nThis is an interactive session so please wear comfortable clothing and trainers. \nAndrea Rose has been a professional dancer\, choreographer for the stars and qualified dance teacher for many years. ARD firmly believes dance provides a feel-good factor with immediate gratification\, as well as keeping you energised\, physically and mentally fit. Dance has been scientifically proven to benefit those who may suffer from depression\, anxiety and other mental health issues. \nARD provides a range of dance genres in the form of workshops\, culminating into stage shows within schools\, local communities\, as well as private classes for all ages. \n  \nFollow on Twitter: @AndreaRoseDance \nFollow on FaceBook: Andrea Rose Dance \nEmail: info@andrearosedance.com \n  \nClick on the link below to register your spot and we will see you in class on Thursday\, 9th July at 6.00pm: \n  \nRegister Here
URL:https://community.opogo.com/event/disco-fit-dance-class-with-andrea-rose-session-2/
CATEGORIES:Fitness,Wellbeing
ATTACH;FMTTYPE=image/png:https://community.opogo.com/wp-content/uploads/2020/06/Dance-Class-2-1.png
END:VEVENT
END:VCALENDAR