BEGIN:VCALENDAR
VERSION:2.0
PRODID:-//Opogo Community - ECPv6.0.6.2//NONSGML v1.0//EN
CALSCALE:GREGORIAN
METHOD:PUBLISH
X-ORIGINAL-URL:https://community.opogo.com
X-WR-CALDESC:Events for Opogo Community
REFRESH-INTERVAL;VALUE=DURATION:PT1H
X-Robots-Tag:noindex
X-PUBLISHED-TTL:PT1H
BEGIN:VTIMEZONE
TZID:Europe/London
BEGIN:DAYLIGHT
TZOFFSETFROM:+0000
TZOFFSETTO:+0100
TZNAME:BST
DTSTART:20200329T010000
END:DAYLIGHT
BEGIN:STANDARD
TZOFFSETFROM:+0100
TZOFFSETTO:+0000
TZNAME:GMT
DTSTART:20201025T010000
END:STANDARD
END:VTIMEZONE
BEGIN:VEVENT
DTSTART;TZID=Europe/London:20200617T170000
DTEND;TZID=Europe/London:20200617T180000
DTSTAMP:20260419T194034
CREATED:20200611T115631Z
LAST-MODIFIED:20200615T095238Z
UID:3912-1592413200-1592416800@community.opogo.com
SUMMARY:Live Meditation Session hosted by Yasmina from Frame
DESCRIPTION:Yasmina will be leading a calming meditation class on Wednesday afternoons\, that will help you unwind\, relax and get a bit of mental clarity after a long day. The session is suitable for anyone whether completely new to meditation or a long time practitioner. Most classes will be done lying down in a comfortable position (blankets and cushions welcome!) whilst being introduced to some calming breathing exercises\, body relaxation techniques and guided mediation. Meditation has been shown to help reduce stress\, encourage relaxation\, promote sleep\, balance the nervous system\, help relieve anxiety and aid memory.  It is suitable for everyone\, as it is practised lying down. \nYasmina is an experienced Yoga & Meditation Teacher and also qualified Nutrition and Health Coach. She runs retreats and workshops in the UK and internationally guiding clients to be happier and healthier versions of themselves. She is also the founder of wellness delivery company www.readysteadyglow.uk Yasmina runs weekly online yoga classes open for all\, details can be found on her Instagram @iamyasminac. \nClick on the link below to register your spot and we will see you in class on Wednesday at 5.00pm: \n  \nRegister Here
URL:https://community.opogo.com/event/live-meditation-session-hosted-by-yasmina-from-frame-6/
CATEGORIES:Fitness,Webinar,Wellbeing
END:VEVENT
END:VCALENDAR