BEGIN:VCALENDAR
VERSION:2.0
PRODID:-//Opogo Community - ECPv6.0.6.2//NONSGML v1.0//EN
CALSCALE:GREGORIAN
METHOD:PUBLISH
X-ORIGINAL-URL:https://community.opogo.com
X-WR-CALDESC:Events for Opogo Community
REFRESH-INTERVAL;VALUE=DURATION:PT1H
X-Robots-Tag:noindex
X-PUBLISHED-TTL:PT1H
BEGIN:VTIMEZONE
TZID:Europe/London
BEGIN:DAYLIGHT
TZOFFSETFROM:+0000
TZOFFSETTO:+0100
TZNAME:BST
DTSTART:20200329T010000
END:DAYLIGHT
BEGIN:STANDARD
TZOFFSETFROM:+0100
TZOFFSETTO:+0000
TZNAME:GMT
DTSTART:20201025T010000
END:STANDARD
END:VTIMEZONE
BEGIN:VEVENT
DTSTART;TZID=Europe/London:20200512T170000
DTEND;TZID=Europe/London:20200512T180000
DTSTAMP:20260419T210605
CREATED:20200506T114237Z
LAST-MODIFIED:20200506T114237Z
UID:3154-1589302800-1589306400@community.opogo.com
SUMMARY:Live HIIT Workout hosted by Niall from AMP
DESCRIPTION:challenge you\, make you fitter than they’ve ever been and show you what can be achieved. The key to this is consistent training and great coaching and at AMP we strive to deliver on both counts. \nHIIT – Shorter workouts with a good warm-up followed by some faster and full body movements designed to make you fitter using only your bodyweight.re are typically 3 Blocks of work with the last one being the sweatiest! \nClick on the link below to book your spot and we will see you in class on Tuesday at 5.00pm: \n  \nRegister Here\n 
URL:https://community.opogo.com/event/live-hiit-workout-hosted-by-niall-from-amp-3/
CATEGORIES:Fitness,Webinar,Wellbeing
ATTACH;FMTTYPE=image/png:https://community.opogo.com/wp-content/uploads/2020/04/AMP-HIIT.png
END:VEVENT
END:VCALENDAR