BEGIN:VCALENDAR
VERSION:2.0
PRODID:-//Opogo Community - ECPv6.0.6.2//NONSGML v1.0//EN
CALSCALE:GREGORIAN
METHOD:PUBLISH
X-ORIGINAL-URL:https://community.opogo.com
X-WR-CALDESC:Events for Opogo Community
REFRESH-INTERVAL;VALUE=DURATION:PT1H
X-Robots-Tag:noindex
X-PUBLISHED-TTL:PT1H
BEGIN:VTIMEZONE
TZID:Europe/London
BEGIN:DAYLIGHT
TZOFFSETFROM:+0000
TZOFFSETTO:+0100
TZNAME:BST
DTSTART:20200329T010000
END:DAYLIGHT
BEGIN:STANDARD
TZOFFSETFROM:+0100
TZOFFSETTO:+0000
TZNAME:GMT
DTSTART:20201025T010000
END:STANDARD
END:VTIMEZONE
BEGIN:VEVENT
DTSTART;TZID=Europe/London:20200429T170000
DTEND;TZID=Europe/London:20200429T180000
DTSTAMP:20260419T224423
CREATED:20200427T120058Z
LAST-MODIFIED:20200507T144136Z
UID:2865-1588179600-1588183200@community.opogo.com
SUMMARY:Live Meditation hosted by Yasmina from FRAME
DESCRIPTION:Yasmina is an experienced Yoga & Meditation Teacher and also qualified Nutrition and Health Coach. She runs retreats and workshops in the UK and internationally guiding clients to be happier and healthier versions of themselves. \nClick on the link below and we will see you in class on Wednesday at 5.00pm: \n  \nJoin live workout\n 
URL:https://community.opogo.com/event/live-meditation-hosted-by-yasmina-from-frame/
CATEGORIES:Fitness,Wellbeing
ATTACH;FMTTYPE=image/png:https://community.opogo.com/wp-content/uploads/2020/05/Meditation-2.png
END:VEVENT
END:VCALENDAR